BEGIN:VCALENDAR
VERSION:2.0
PRODID:-//Rotherfield Greys Parish Council//Meeting Calendar//EN
CALSCALE:GREGORIAN
METHOD:PUBLISH
BEGIN:VEVENT
UID:71096-20260309@rotherfieldgreysparishcouncil.gov.uk
DTSTAMP:20260422T090439Z
DTSTART;VALUE=DATE:20260309
DTEND;VALUE=DATE:20260310
SUMMARY:Council Meeting 9 March 2026
DESCRIPTION:Full Council Meeting\nView details: https://rotherfieldgreysparishcouncil.gov.uk/meetings/council-meeting-9-march-2026/
URL:https://rotherfieldgreysparishcouncil.gov.uk/meetings/council-meeting-9-march-2026/
END:VEVENT
END:VCALENDAR
